BEGIN:VCALENDAR
VERSION:2.0
PRODID:-//2026 Old Songs Festival — Music with Roots - ECPv5.16.4//NONSGML v1.0//EN
CALSCALE:GREGORIAN
METHOD:PUBLISH
X-WR-CALNAME:2026 Old Songs Festival — Music with Roots
X-ORIGINAL-URL:https://festival.oldsongs.org
X-WR-CALDESC:Events for 2026 Old Songs Festival — Music with Roots
BEGIN:VTIMEZONE
TZID:UTC
BEGIN:STANDARD
TZOFFSETFROM:+0000
TZOFFSETTO:+0000
TZNAME:UTC
DTSTART:20210101T000000
END:STANDARD
END:VTIMEZONE
BEGIN:VEVENT
DTSTART;TZID=UTC:20210626T142000
DTEND;TZID=UTC:20210626T142000
DTSTAMP:20260422T145156
CREATED:20210622T182751Z
LAST-MODIFIED:20210625T011625Z
UID:12237-1624717200-1624717200@festival.oldsongs.org
SUMMARY:Afternoon Waltz with Toss the Possum
DESCRIPTION:Toss the Possum has been playing contra dances as a family band since 2004. The current lineup is Laura on keyboard and Rob on fiddle\, percussion\, and vocals. They play with high energy and a big sound\, but also create lyrical magic on smooth sets. Their goal is to give the dancers the best experience possible. You might hear some fun rock-n-roll inserts as well as a number of original waltzes. You will enjoy a lot of creativity\, some humor\, and great passion with this band. \nhttp://www.tossthepossum.net
URL:https://festival.oldsongs.org/event/afternoon-waltztoss-the-possum/
LOCATION:Dance Building
CATEGORIES:Dance
END:VEVENT
END:VCALENDAR