BEGIN:VCALENDAR
VERSION:2.0
PRODID:-//2026 Old Songs Festival — Music with Roots - ECPv5.16.4//NONSGML v1.0//EN
CALSCALE:GREGORIAN
METHOD:PUBLISH
X-WR-CALNAME:2026 Old Songs Festival — Music with Roots
X-ORIGINAL-URL:https://festival.oldsongs.org
X-WR-CALDESC:Events for 2026 Old Songs Festival — Music with Roots
BEGIN:VTIMEZONE
TZID:UTC
BEGIN:STANDARD
TZOFFSETFROM:+0000
TZOFFSETTO:+0000
TZNAME:UTC
DTSTART:20210101T000000
END:STANDARD
END:VTIMEZONE
BEGIN:VEVENT
DTSTART;TZID=UTC:20210627T142000
DTEND;TZID=UTC:20210627T142000
DTSTAMP:20260420T214418
CREATED:20210622T183824Z
LAST-MODIFIED:20210622T204500Z
UID:12280-1624803600-1624803600@festival.oldsongs.org
SUMMARY:Appalachian Flatfooting with Rodney Sutton
DESCRIPTION:Rodney Clay Sutton is performs and teaches of Appalachian step dance\, both flatfoot and clogging. He calls square and contra dances\, tells stories\, and sings ballads. Rodney offers workshops\, lectures\, and demonstrations for a range of age groups or for occasions such as weddings\, anniversaries\, or even corporate gatherings.He is also a concert and festival producer\, emcee\, and stage manager.  More recently\, he’s been studying Sean Nós dance—the Irish step-dance equivalent to flat-footing. rodneyclaysutton.com
URL:https://festival.oldsongs.org/event/appalachian-flatfootingewith-rodney-sutton/
LOCATION:Dance Building
CATEGORIES:Dance
ATTACH;FMTTYPE=image/jpeg:https://festival.oldsongs.org/wp-content/uploads/sites/15/2021/06/img_7775-e1624380077287.jpg
END:VEVENT
END:VCALENDAR