BEGIN:VCALENDAR
VERSION:2.0
PRODID:-//2026 Old Songs Festival — Music with Roots - ECPv5.16.4//NONSGML v1.0//EN
CALSCALE:GREGORIAN
METHOD:PUBLISH
X-WR-CALNAME:2026 Old Songs Festival — Music with Roots
X-ORIGINAL-URL:https://festival.oldsongs.org
X-WR-CALDESC:Events for 2026 Old Songs Festival — Music with Roots
BEGIN:VTIMEZONE
TZID:America/New_York
BEGIN:DAYLIGHT
TZOFFSETFROM:-0500
TZOFFSETTO:-0400
TZNAME:EDT
DTSTART:20230312T070000
END:DAYLIGHT
BEGIN:STANDARD
TZOFFSETFROM:-0400
TZOFFSETTO:-0500
TZNAME:EST
DTSTART:20231105T060000
END:STANDARD
END:VTIMEZONE
BEGIN:VEVENT
DTSTART;TZID=America/New_York:20230623T163000
DTEND;TZID=America/New_York:20230623T173000
DTSTAMP:20260422T035112
CREATED:20230530T180314Z
LAST-MODIFIED:20230601T063857Z
UID:14791-1687537800-1687541400@festival.oldsongs.org
SUMMARY:Maritime Skills
DESCRIPTION:with Dirty Blue Shirts \nDirty Blue Shirts will demonstrate\, teach\, and give you the opportunity to get hands-on experience with canvaswork\, ropework\, netting\, knotting\, and knitting\, chantey singing and more! \n  \n  \n 
URL:https://festival.oldsongs.org/event/copy-of-maritime-demonstrations-songs-hands-on/
LOCATION:Hands-On!
CATEGORIES:Hands-On
END:VEVENT
END:VCALENDAR