BEGIN:VCALENDAR
VERSION:2.0
PRODID:-//2026 Old Songs Festival — Music with Roots - ECPv5.16.4//NONSGML v1.0//EN
CALSCALE:GREGORIAN
METHOD:PUBLISH
X-WR-CALNAME:2026 Old Songs Festival — Music with Roots
X-ORIGINAL-URL:https://festival.oldsongs.org
X-WR-CALDESC:Events for 2026 Old Songs Festival — Music with Roots
BEGIN:VTIMEZONE
TZID:America/New_York
BEGIN:DAYLIGHT
TZOFFSETFROM:-0500
TZOFFSETTO:-0400
TZNAME:EDT
DTSTART:20230312T070000
END:DAYLIGHT
BEGIN:STANDARD
TZOFFSETFROM:-0400
TZOFFSETTO:-0500
TZNAME:EST
DTSTART:20231105T060000
END:STANDARD
END:VTIMEZONE
BEGIN:VEVENT
DTSTART;TZID=America/New_York:20230625T103000
DTEND;TZID=America/New_York:20230625T110000
DTSTAMP:20260421T132822
CREATED:20230530T180944Z
LAST-MODIFIED:20230601T064433Z
UID:14207-1687689000-1687690800@festival.oldsongs.org
SUMMARY:Dead Horse Ceremony
DESCRIPTION:with Dirty Blue Shirts \nYour opportunity to participate in the sailor’s ceremony in which they celebrated paying off their debts to the ship’s company.  All the money they earned from that point on was theirs.   The Dirty Blue Shirts will teach the music and you can sing along.
URL:https://festival.oldsongs.org/event/dead-horse-ceremony-2/
LOCATION:Hands-On!
CATEGORIES:Hands-On
END:VEVENT
END:VCALENDAR