BEGIN:VCALENDAR
VERSION:2.0
PRODID:-//2026 Old Songs Festival — Music with Roots - ECPv5.16.4//NONSGML v1.0//EN
CALSCALE:GREGORIAN
METHOD:PUBLISH
X-WR-CALNAME:2026 Old Songs Festival — Music with Roots
X-ORIGINAL-URL:https://festival.oldsongs.org
X-WR-CALDESC:Events for 2026 Old Songs Festival — Music with Roots
BEGIN:VTIMEZONE
TZID:UTC
BEGIN:STANDARD
TZOFFSETFROM:+0000
TZOFFSETTO:+0000
TZNAME:UTC
DTSTART:20210101T000000
END:STANDARD
END:VTIMEZONE
BEGIN:VEVENT
DTSTART;TZID=UTC:20210626T120000
DTEND;TZID=UTC:20210626T120000
DTSTAMP:20260422T050318
CREATED:20210622T182551Z
LAST-MODIFIED:20210623T193739Z
UID:12234-1624708800-1624708800@festival.oldsongs.org
SUMMARY:Family Ceilidh: Stories\, Song\, and Dance for all ages with Danielle Enblom
DESCRIPTION:Danielle Enblom is the only performer\, practitioner\, and researcher in the country who has a background in modern Irish step dance\, old-style Irish step dance\, and sean-nós dance and who also practices North American forms of traditional percussive dance\, including Appalachian clogging\, Quebecois step dancing\, and Cape Breton step dancing. danielleenblom.com
URL:https://festival.oldsongs.org/event/family-ceili-stories-song-and-dance-for-all-ages-with-danielle-enblom/
LOCATION:Dance Building
CATEGORIES:Dance
ATTACH;FMTTYPE=image/jpeg:https://festival.oldsongs.org/wp-content/uploads/sites/15/2021/06/danielleenblom.jpg
END:VEVENT
END:VCALENDAR