BEGIN:VCALENDAR
VERSION:2.0
PRODID:-//2026 Old Songs Festival — Music with Roots - ECPv5.16.4//NONSGML v1.0//EN
CALSCALE:GREGORIAN
METHOD:PUBLISH
X-WR-CALNAME:2026 Old Songs Festival — Music with Roots
X-ORIGINAL-URL:https://festival.oldsongs.org
X-WR-CALDESC:Events for 2026 Old Songs Festival — Music with Roots
BEGIN:VTIMEZONE
TZID:UTC
BEGIN:STANDARD
TZOFFSETFROM:+0000
TZOFFSETTO:+0000
TZNAME:UTC
DTSTART:20210101T000000
END:STANDARD
END:VTIMEZONE
BEGIN:VEVENT
DTSTART;TZID=UTC:20210626T112500
DTEND;TZID=UTC:20210626T112500
DTSTAMP:20260422T092921
CREATED:20210622T182536Z
LAST-MODIFIED:20210623T193630Z
UID:12226-1624706700-1624706700@festival.oldsongs.org
SUMMARY:Family Song Circle with the Children’s Music Network
DESCRIPTION:with Nancy Hershatter\, Stuart Stotts\, Jackson Gillman\, Kim Wallach\, and Lydia Adams Davis \n  \n\nNancy Hershatter\nNancy Hershatter is New York Metro Regional Coordinator for The Children’s Music Network. Since 1992\, she has been teaching joyful\, child-centered music classes in early childhood settings all over the tri-state area. musicandmovementct.com/ \nJackson Gillman\nJackson Gillman was a recipient of the National Storytelling Network’s 2020 Oracle Award. He incorporates participatory movement\, mime and sign language in his songs and musical stories. jacksongillman.com \nStuart Stotts\nStuart Stotts is an author\, storyteller\, educator\, and songwriter. He’s sung with and performed for kids and families in schools\, libraries\, and community settings around the world since 1984. Stuart is a Kennedy Center teaching artist and a frequent presenter at educational events\, keynoting conferences and leading workshops for early childhood and elementary school teachers\, librarians\, and social service professionals around the country. stuartstotts.com/ \nKim Wallach\nWith original songs\, traditional gems\, hard-earned wisdom\, an out-of-left—field sense of humor and instrumental skills on piano\, guitar and banjo\, Kim Wallach has performed both solo and with the short Sisters up and down the East Coast\, in the Midwest\, California\, Texas and England\, since 1978. Every concert and album is a smorgasbord of songs\, stories\, emotions and discoveries— come have a taste! kimwallach.com \nLydia Adams Davis brings fresh interpretations of Hudson River/Pete Seeger songs and poignant\, often funny\, originals to the Circle Of Song. A professional folk artist for 40 years\, Lydia\, a puppeteer and award-winning children’s artist\, is an entertainer known to write songs on the spot. So hang out and be prepared to sing along with “Lake Erie”\, “I am Snake” and other family favorites from her five albums! Lydia is a student of history. She is currently bringing Abigail Adams and Susan B Anthony to life through original conversations and traditional songs. LydiaAdamsDavis.com \nChildren’s Music Network is a group of artists\, educators\, and activists–performers\, songwriters\, classroom teachers\, music educators\, librarians\, storytellers\, record producers\, distributors\, broadcasters\, parents\, grandparents\, and children. Diverse in age\, ethnicity\, gender\, religion\, sexual orientation\, and culture\, they celebrate children’s music as a powerful means of encouraging cooperation\, celebrating diversity\, building self-esteem\, promoting respect and responsibility for our environment\, and cultivating an understanding of nonviolence and social justice. childrensmusic.org
URL:https://festival.oldsongs.org/event/family-song-circle-childrens-music-network/
CATEGORIES:Family Fun
END:VEVENT
END:VCALENDAR