BEGIN:VCALENDAR
VERSION:2.0
PRODID:-//2026 Old Songs Festival — Music with Roots - ECPv5.16.4//NONSGML v1.0//EN
CALSCALE:GREGORIAN
METHOD:PUBLISH
X-WR-CALNAME:2026 Old Songs Festival — Music with Roots
X-ORIGINAL-URL:https://festival.oldsongs.org
X-WR-CALDESC:Events for 2026 Old Songs Festival — Music with Roots
BEGIN:VTIMEZONE
TZID:UTC
BEGIN:STANDARD
TZOFFSETFROM:+0000
TZOFFSETTO:+0000
TZNAME:UTC
DTSTART:20210101T000000
END:STANDARD
END:VTIMEZONE
BEGIN:VEVENT
DTSTART;TZID=UTC:20210626T163000
DTEND;TZID=UTC:20210626T163000
DTSTAMP:20260422T133215
CREATED:20210622T182225Z
LAST-MODIFIED:20210624T075812Z
UID:12219-1624725000-1624725000@festival.oldsongs.org
SUMMARY:Frank Lee & Allie Burbrink
DESCRIPTION:Frank Lee and Allie Burbrink are a vocal-driven old-time duo from western North Carolina. They showcase Frank’s signature clawhammer-banjo sound on steel-string and nylon-string banjos. Or some slide guitar and harmonica blues pieces. Then there’s Maybelle Carter-inspired country guitar\, or cross-tuned old-time fiddling à la Fiddlin’ John Carson. And Frank & Allie’s voices in harmony tying it all together! frankandallie.com
URL:https://festival.oldsongs.org/event/frank-lee-allie-burbrink/
CATEGORIES:Performance
ATTACH;FMTTYPE=image/jpeg:https://festival.oldsongs.org/wp-content/uploads/sites/15/2021/06/HD9A4858.jpg
END:VEVENT
END:VCALENDAR