BEGIN:VCALENDAR
VERSION:2.0
PRODID:-//2026 Old Songs Festival — Music with Roots - ECPv5.16.4//NONSGML v1.0//EN
CALSCALE:GREGORIAN
METHOD:PUBLISH
X-WR-CALNAME:2026 Old Songs Festival — Music with Roots
X-ORIGINAL-URL:https://festival.oldsongs.org
X-WR-CALDESC:Events for 2026 Old Songs Festival — Music with Roots
BEGIN:VTIMEZONE
TZID:America/New_York
BEGIN:DAYLIGHT
TZOFFSETFROM:-0500
TZOFFSETTO:-0400
TZNAME:EDT
DTSTART:20230312T070000
END:DAYLIGHT
BEGIN:STANDARD
TZOFFSETFROM:-0400
TZOFFSETTO:-0500
TZNAME:EST
DTSTART:20231105T060000
END:STANDARD
END:VTIMEZONE
BEGIN:VEVENT
DTSTART;TZID=America/New_York:20230625T090000
DTEND;TZID=America/New_York:20230625T103000
DTSTAMP:20260421T150927
CREATED:20230530T180729Z
LAST-MODIFIED:20230614T201122Z
UID:14164-1687683600-1687689000@festival.oldsongs.org
SUMMARY:Great Groove Band Rehearsal
DESCRIPTION:For ages 5–18\, bring your wind\, string\, percussion instruments\, or voice.
URL:https://festival.oldsongs.org/event/great-groove-band-rehearsal-3/
LOCATION:1890 Building
CATEGORIES:Class
END:VEVENT
END:VCALENDAR