BEGIN:VCALENDAR
VERSION:2.0
PRODID:-//2026 Old Songs Festival — Music with Roots - ECPv5.16.4//NONSGML v1.0//EN
CALSCALE:GREGORIAN
METHOD:PUBLISH
X-WR-CALNAME:2026 Old Songs Festival — Music with Roots
X-ORIGINAL-URL:https://festival.oldsongs.org
X-WR-CALDESC:Events for 2026 Old Songs Festival — Music with Roots
BEGIN:VTIMEZONE
TZID:UTC
BEGIN:STANDARD
TZOFFSETFROM:+0000
TZOFFSETTO:+0000
TZNAME:UTC
DTSTART:20210101T000000
END:STANDARD
END:VTIMEZONE
BEGIN:VEVENT
DTSTART;TZID=UTC:20210627T112500
DTEND;TZID=UTC:20210627T112500
DTSTAMP:20260422T114832
CREATED:20210622T183609Z
LAST-MODIFIED:20210625T022141Z
UID:12270-1624793100-1624793100@festival.oldsongs.org
SUMMARY:Guitar: Major Open Tunings with Scott Ainslie
DESCRIPTION:Steeped in traditional music from both sides of the color line\, Scott Ainslie is a renowned acoustic blues guitarist\, singer\, and songwriter\, with expertise in Piedmont and Delta Blues as well as Southern Appalachian fiddle and banjo traditions. Armed with a variety of instruments—vintage guitars; a fretless gourd banjo; a one-string diddley bow (aka cigar box guitar)—Ainslie brings the history\, roots music\, and sounds of America alive. \ns https://cattailmusic.com
URL:https://festival.oldsongs.org/event/guitar-major-open-tunings-with-scott-ainslie/
CATEGORIES:Class
ATTACH;FMTTYPE=image/jpeg:https://festival.oldsongs.org/wp-content/uploads/sites/15/2021/06/Ainslie-82015-scaled.jpg
END:VEVENT
END:VCALENDAR