BEGIN:VCALENDAR
VERSION:2.0
PRODID:-//2026 Old Songs Festival — Music with Roots - ECPv5.16.4//NONSGML v1.0//EN
CALSCALE:GREGORIAN
METHOD:PUBLISH
X-WR-CALNAME:2026 Old Songs Festival — Music with Roots
X-ORIGINAL-URL:https://festival.oldsongs.org
X-WR-CALDESC:Events for 2026 Old Songs Festival — Music with Roots
BEGIN:VTIMEZONE
TZID:UTC
BEGIN:STANDARD
TZOFFSETFROM:+0000
TZOFFSETTO:+0000
TZNAME:UTC
DTSTART:20210101T000000
END:STANDARD
END:VTIMEZONE
BEGIN:VEVENT
DTSTART;TZID=UTC:20210627T132000
DTEND;TZID=UTC:20210627T132000
DTSTAMP:20260422T081841
CREATED:20210622T184224Z
LAST-MODIFIED:20210625T062735Z
UID:12286-1624800000-1624800000@festival.oldsongs.org
SUMMARY:Mandinka Musical Culture with the Great Gambian Griots
DESCRIPTION:Documentary style video on traditional Mandinka music and the cultural world of Mandinka traditional oral historian-musicians known as “griots.”  Including: Kora duets\, wooden-keyed xylophone and 3-string bass kora\, women’s bell\, drumming discussion and demonstration\, dancing\, kora teaching\, and traditional story-telling. \n  \n\nForty-eight years ago\, Alhaji Bai Konte brought the music of the kora (Mandinka harp) from Gambia to the U.S. This year\, his grandsons (the word is used a little more loosely than usual) Great Gambian Griots\, continue to carry on that tradition. Jali Bakary Konteh is an imaginative improviser who can support the tradition or blend traditional and modern instruments. Pa Bobo Jobarteh is a human rights activist whose songs were instrumental in the rarest of events in modern politics: a bloodless\, democratic overthrow of a dictator.  Fled for his life\, returned a folk hero! africanculturalencounters.com
URL:https://festival.oldsongs.org/event/mandinka-musical-culture-with-the-great-gambian-griots/
LOCATION:Sheep Barn
CATEGORIES:Workshop
ATTACH;FMTTYPE=image/png:https://festival.oldsongs.org/wp-content/uploads/sites/15/2021/06/Great-Gambian-Griots-Promo-2021.png
END:VEVENT
END:VCALENDAR