BEGIN:VCALENDAR
VERSION:2.0
PRODID:-//2026 Old Songs Festival — Music with Roots - ECPv5.16.4//NONSGML v1.0//EN
CALSCALE:GREGORIAN
METHOD:PUBLISH
X-WR-CALNAME:2026 Old Songs Festival — Music with Roots
X-ORIGINAL-URL:https://festival.oldsongs.org
X-WR-CALDESC:Events for 2026 Old Songs Festival — Music with Roots
BEGIN:VTIMEZONE
TZID:UTC
BEGIN:STANDARD
TZOFFSETFROM:+0000
TZOFFSETTO:+0000
TZNAME:UTC
DTSTART:20210101T000000
END:STANDARD
END:VTIMEZONE
BEGIN:VEVENT
DTSTART;TZID=UTC:20210627T133000
DTEND;TZID=UTC:20210627T133000
DTSTAMP:20260421T040447
CREATED:20210622T183553Z
LAST-MODIFIED:20210627T164039Z
UID:12263-1624800600-1624800600@festival.oldsongs.org
SUMMARY:Matthew Byrne
DESCRIPTION:With parents who were both singers and song collectors and a strong family focus on sharing songs\, Matthew Byrne has inherited a unique repertoire as well as a fascination with unearthing and reimagining traditional songs. But Byrne is also a student of history whose love of traditional music goes well beyond the words and music. For him\, songs are ways of understanding people before him—their lives\, work\, language\, and worldview.
URL:https://festival.oldsongs.org/event/matthew-byrne/
LOCATION:1890 Building
CATEGORIES:Performance
END:VEVENT
END:VCALENDAR