BEGIN:VCALENDAR
VERSION:2.0
PRODID:-//2026 Old Songs Festival — Music with Roots - ECPv5.16.4//NONSGML v1.0//EN
CALSCALE:GREGORIAN
METHOD:PUBLISH
X-WR-CALNAME:2026 Old Songs Festival — Music with Roots
X-ORIGINAL-URL:https://festival.oldsongs.org
X-WR-CALDESC:Events for 2026 Old Songs Festival — Music with Roots
BEGIN:VTIMEZONE
TZID:UTC
BEGIN:STANDARD
TZOFFSETFROM:+0000
TZOFFSETTO:+0000
TZNAME:UTC
DTSTART:20210101T000000
END:STANDARD
END:VTIMEZONE
BEGIN:VEVENT
DTSTART;TZID=UTC:20210626T141000
DTEND;TZID=UTC:20210626T141000
DTSTAMP:20260422T145839
CREATED:20210622T182536Z
LAST-MODIFIED:20210625T005327Z
UID:12229-1624716600-1624716600@festival.oldsongs.org
SUMMARY:Mountain Dulcimer Workshop with Sally Rogers & Claudia Schmidt
DESCRIPTION:Sally Rogers and Claudia Schmidt have been weaving their voices\, dulcimers\, and guitars together for decades\, creating an atmosphere of joy and musical lushness that audiences find irresistible. Their soaring harmonies (“blood harmony” was how one fan described it)\, their fascinating double dulcimer work\, and their mix of six- and twelve-string guitars\, blend with a wide choice of songs–their originals\, traditional songs\, and choice compositions of contemporary songwriters. \n  \nhttps://www.claudiaschmidt.com \nhttps://sallyrogers.com \n  \n 
URL:https://festival.oldsongs.org/event/mountain-dulcimer-workshop-with-sally-rogers-claudia-schmidt/
CATEGORIES:Class
ATTACH;FMTTYPE=image/jpeg:https://festival.oldsongs.org/wp-content/uploads/sites/15/2021/06/sally-claudia-800x600-1.jpg
END:VEVENT
END:VCALENDAR