BEGIN:VCALENDAR
VERSION:2.0
PRODID:-//2026 Old Songs Festival — Music with Roots - ECPv5.16.4//NONSGML v1.0//EN
CALSCALE:GREGORIAN
METHOD:PUBLISH
X-WR-CALNAME:2026 Old Songs Festival — Music with Roots
X-ORIGINAL-URL:https://festival.oldsongs.org
X-WR-CALDESC:Events for 2026 Old Songs Festival — Music with Roots
BEGIN:VTIMEZONE
TZID:UTC
BEGIN:STANDARD
TZOFFSETFROM:+0000
TZOFFSETTO:+0000
TZNAME:UTC
DTSTART:20210101T000000
END:STANDARD
END:VTIMEZONE
BEGIN:VEVENT
DTSTART;TZID=UTC:20210627T103000
DTEND;TZID=UTC:20210627T103000
DTSTAMP:20260422T080749
CREATED:20210622T183609Z
LAST-MODIFIED:20210625T021044Z
UID:12268-1624789800-1624789800@festival.oldsongs.org
SUMMARY:Roger the Jester
DESCRIPTION:Roger the Jester keeps pretty mum on stage\, but here are some words of his. “My work is constantly changing; every venue will elicit new material. Every performance is a debut\, since my work is so improvisational…There are many events where I create something special just for that event… I recently was commissioned to perform at a wedding reception. I played an arrangement of the Beatles’ ‘All you need is Love’ on the tuba\, trombone\, pocket trumpet\, baritone\, melodica\, boom whacker and cymbals… [But] I will continue to juggle\, spin\, throw and play with all sorts of objects. Don’t worry.” \n  \nhttp://www.ijest.com
URL:https://festival.oldsongs.org/event/roger-the-jester-2/
CATEGORIES:Family Fun
ATTACH;FMTTYPE=image/jpeg:https://festival.oldsongs.org/wp-content/uploads/sites/15/2019/06/a.jpg
END:VEVENT
END:VCALENDAR