BEGIN:VCALENDAR
VERSION:2.0
PRODID:-//2026 Old Songs Festival — Music with Roots - ECPv5.16.4//NONSGML v1.0//EN
CALSCALE:GREGORIAN
METHOD:PUBLISH
X-WR-CALNAME:2026 Old Songs Festival — Music with Roots
X-ORIGINAL-URL:https://festival.oldsongs.org
X-WR-CALDESC:Events for 2026 Old Songs Festival — Music with Roots
BEGIN:VTIMEZONE
TZID:America/New_York
BEGIN:DAYLIGHT
TZOFFSETFROM:-0500
TZOFFSETTO:-0400
TZNAME:EDT
DTSTART:20230312T070000
END:DAYLIGHT
BEGIN:STANDARD
TZOFFSETFROM:-0400
TZOFFSETTO:-0500
TZNAME:EST
DTSTART:20231105T060000
END:STANDARD
END:VTIMEZONE
BEGIN:VEVENT
DTSTART;TZID=America/New_York:20230624T173000
DTEND;TZID=America/New_York:20230624T183000
DTSTAMP:20260419T104823
CREATED:20230530T180429Z
LAST-MODIFIED:20230530T180429Z
UID:14102-1687627800-1687631400@festival.oldsongs.org
SUMMARY:Sacred Harp Book Sing
DESCRIPTION:with Eric Bean
URL:https://festival.oldsongs.org/event/sacred-harp-book-sing/
LOCATION:1890 Building
CATEGORIES:MYOM
END:VEVENT
END:VCALENDAR