BEGIN:VCALENDAR
VERSION:2.0
PRODID:-//2026 Old Songs Festival — Music with Roots - ECPv5.16.4//NONSGML v1.0//EN
CALSCALE:GREGORIAN
METHOD:PUBLISH
X-WR-CALNAME:2026 Old Songs Festival — Music with Roots
X-ORIGINAL-URL:https://festival.oldsongs.org
X-WR-CALDESC:Events for 2026 Old Songs Festival — Music with Roots
BEGIN:VTIMEZONE
TZID:America/New_York
BEGIN:DAYLIGHT
TZOFFSETFROM:-0500
TZOFFSETTO:-0400
TZNAME:EDT
DTSTART:20230312T070000
END:DAYLIGHT
BEGIN:STANDARD
TZOFFSETFROM:-0400
TZOFFSETTO:-0500
TZNAME:EST
DTSTART:20231105T060000
END:STANDARD
END:VTIMEZONE
BEGIN:VEVENT
DTSTART;TZID=America/New_York:20230624T183000
DTEND;TZID=America/New_York:20230624T230000
DTSTAMP:20260421T041745
CREATED:20230530T180959Z
LAST-MODIFIED:20230531T054823Z
UID:14213-1687631400-1687647600@festival.oldsongs.org
SUMMARY:Saturday Evening Main Stage Concert
DESCRIPTION:with MC John Roberts \nAnita Best & Pamela Morgan\, Bruce Molsky\, Low Lily\, Máire Ní Chathasaigh & Chris Newman\, Guy Davis\, Rum Ragged\, Jake Blount\, Beppe Gambetta\, and Cantrip
URL:https://festival.oldsongs.org/event/saturday-evening-main-stage-concert-with-mc-john-roberts/
LOCATION:Main Stage
CATEGORIES:Performance
END:VEVENT
END:VCALENDAR