BEGIN:VCALENDAR
VERSION:2.0
PRODID:-//2026 Old Songs Festival — Music with Roots - ECPv5.16.4//NONSGML v1.0//EN
CALSCALE:GREGORIAN
METHOD:PUBLISH
X-WR-CALNAME:2026 Old Songs Festival — Music with Roots
X-ORIGINAL-URL:https://festival.oldsongs.org
X-WR-CALDESC:Events for 2026 Old Songs Festival — Music with Roots
BEGIN:VTIMEZONE
TZID:America/New_York
BEGIN:DAYLIGHT
TZOFFSETFROM:-0500
TZOFFSETTO:-0400
TZNAME:EDT
DTSTART:20230312T070000
END:DAYLIGHT
BEGIN:STANDARD
TZOFFSETFROM:-0400
TZOFFSETTO:-0500
TZNAME:EST
DTSTART:20231105T060000
END:STANDARD
END:VTIMEZONE
BEGIN:VEVENT
DTSTART;TZID=America/New_York:20230624T230000
DTEND;TZID=America/New_York:20230625T010000
DTSTAMP:20260421T151309
CREATED:20230530T181014Z
LAST-MODIFIED:20230620T052300Z
UID:14219-1687647600-1687654800@festival.oldsongs.org
SUMMARY:Late Night Sing
DESCRIPTION:with Matt Watroba
URL:https://festival.oldsongs.org/event/sing-in-the-dutch-barn-2/
LOCATION:Dutch Barn
CATEGORIES:MYOM
END:VEVENT
END:VCALENDAR