BEGIN:VCALENDAR
VERSION:2.0
PRODID:-//2026 Old Songs Festival — Music with Roots - ECPv5.16.4//NONSGML v1.0//EN
CALSCALE:GREGORIAN
METHOD:PUBLISH
X-WR-CALNAME:2026 Old Songs Festival — Music with Roots
X-ORIGINAL-URL:https://festival.oldsongs.org
X-WR-CALDESC:Events for 2026 Old Songs Festival — Music with Roots
BEGIN:VTIMEZONE
TZID:UTC
BEGIN:STANDARD
TZOFFSETFROM:+0000
TZOFFSETTO:+0000
TZNAME:UTC
DTSTART:20210101T000000
END:STANDARD
END:VTIMEZONE
BEGIN:VEVENT
DTSTART;TZID=UTC:20210626T112500
DTEND;TZID=UTC:20210626T112500
DTSTAMP:20260422T082045
CREATED:20210622T182751Z
LAST-MODIFIED:20210626T013920Z
UID:12240-1624706700-1624706700@festival.oldsongs.org
SUMMARY:The Storytelling Stone: Sharing Traditional Native American Stories with James and Joseph Bruchac
DESCRIPTION:Joseph Bruchac\nFor over forty years\, Joseph Bruchac has been creating literature and music that reflect his indigenous heritage and traditions. He is a proud Nulhegan Abenaki citizen and respected elder among his people. Although his American Indian heritage is only one part of an ethnic background that includes Slovak and English blood\, those Native roots are the ones by which he has been most nourished. He continues to work extensively in projects involving the preservation of Abenaki culture\, language and traditional Native skills. His son James—author\, storyteller\, cultural and wilderness educator—will join him this year. \nhttps://www.josephbruchac.com
URL:https://festival.oldsongs.org/event/the-storytelling-stone-sharing-traditional-native-american-stories-with-james-and-joseph-bruchac/
LOCATION:Sheep Barn
CATEGORIES:Workshop
END:VEVENT
END:VCALENDAR