BEGIN:VCALENDAR
VERSION:2.0
PRODID:-//2026 Old Songs Festival — Music with Roots - ECPv5.16.4//NONSGML v1.0//EN
CALSCALE:GREGORIAN
METHOD:PUBLISH
X-WR-CALNAME:2026 Old Songs Festival — Music with Roots
X-ORIGINAL-URL:https://festival.oldsongs.org
X-WR-CALDESC:Events for 2026 Old Songs Festival — Music with Roots
BEGIN:VTIMEZONE
TZID:UTC
BEGIN:STANDARD
TZOFFSETFROM:+0000
TZOFFSETTO:+0000
TZNAME:UTC
DTSTART:20210101T000000
END:STANDARD
END:VTIMEZONE
BEGIN:VEVENT
DTSTART;TZID=UTC:20210627T151500
DTEND;TZID=UTC:20210627T151500
DTSTAMP:20260422T064037
CREATED:20210622T184329Z
LAST-MODIFIED:20210624T062012Z
UID:12294-1624806900-1624806900@festival.oldsongs.org
SUMMARY:Young Tradition Vermont
DESCRIPTION:Young Tradition Vermont\nThe 2020/2021 Young Tradition Touring Group consists of teen players\, singers and dancers who focus on learning and performing a variety of traditional music and dance repertoire over the course of 9 months\, starting in September 2020. Group members learn from and are supported by manager Mark Sustic and artist leaders Oliver Scanlon\, Fern Tamagini-O’Donnell and Hilary Menegaz Weitzner\, in addition to exchanges with young performers and host\norganizations during a virtual April tour. Members ranging in age from 11 to 19. Though most members are from Vermont\, this year members also represented Connecticut\, Maine\, Massachusetts and Ontario. \nThey did the annual spring tour virtually in late April 2021. Previous in-person tours have includedEngland\, Ireland\, Cape Breton\, New Brunswick\, Scotland\, Japan and metro New York/New Jersey.  This year the group visited Sweden\, England\, New Brunswick\, Quebec\, Orkney\, the Hudson River Valley\, Scotland\, Ireland and Japan to share music with other trad youth groups\, learn in master classes and participate in peer-to-peer socializing. \nFor more information contact mark.sustic@gmail.com
URL:https://festival.oldsongs.org/event/young-tradition-vermont/
LOCATION:Dutch Barn
CATEGORIES:Performance
ATTACH;FMTTYPE=image/jpeg:https://festival.oldsongs.org/wp-content/uploads/sites/15/2021/06/Touring-Group-photo-2.jpg
END:VEVENT
END:VCALENDAR